BEGIN:VCALENDAR
VERSION:2.0
PRODID:-//UMDF - ECPv6.15.20//NONSGML v1.0//EN
CALSCALE:GREGORIAN
METHOD:PUBLISH
X-ORIGINAL-URL:https://umdf.org
X-WR-CALDESC:Events for UMDF
REFRESH-INTERVAL;VALUE=DURATION:PT1H
X-Robots-Tag:noindex
X-PUBLISHED-TTL:PT1H
BEGIN:VTIMEZONE
TZID:America/New_York
BEGIN:DAYLIGHT
TZOFFSETFROM:-0500
TZOFFSETTO:-0400
TZNAME:EDT
DTSTART:20250309T070000
END:DAYLIGHT
BEGIN:STANDARD
TZOFFSETFROM:-0400
TZOFFSETTO:-0500
TZNAME:EST
DTSTART:20251102T060000
END:STANDARD
BEGIN:DAYLIGHT
TZOFFSETFROM:-0500
TZOFFSETTO:-0400
TZNAME:EDT
DTSTART:20260308T070000
END:DAYLIGHT
BEGIN:STANDARD
TZOFFSETFROM:-0400
TZOFFSETTO:-0500
TZNAME:EST
DTSTART:20261101T060000
END:STANDARD
BEGIN:DAYLIGHT
TZOFFSETFROM:-0500
TZOFFSETTO:-0400
TZNAME:EDT
DTSTART:20270314T070000
END:DAYLIGHT
BEGIN:STANDARD
TZOFFSETFROM:-0400
TZOFFSETTO:-0500
TZNAME:EST
DTSTART:20271107T060000
END:STANDARD
END:VTIMEZONE
BEGIN:VEVENT
DTSTART;TZID=America/New_York:20260408T120000
DTEND;TZID=America/New_York:20260408T130000
DTSTAMP:20260423T091041
CREATED:20250108T144422Z
LAST-MODIFIED:20250121T173952Z
UID:10003575-1775649600-1775653200@umdf.org
SUMMARY:Support Group for All
DESCRIPTION:When: The Second Wednesday of each month at 12:00 PM Eastern Time (US and Canada) \nRegister in advance for this meeting: \nhttps://umdf.zoom.us/meeting/register/tZcpcumsrTsiH9w1_pPmjbc-KqRCAIrmQCKt \nAfter registering\, you will receive a confirmation email containing information about joining the meeting.
URL:https://umdf.org/event/support-group-for-all/2026-04-08/
END:VEVENT
BEGIN:VEVENT
DTSTART;TZID=America/New_York:20260408T220000
DTEND;TZID=America/New_York:20260408T233000
DTSTAMP:20260423T091041
CREATED:20241001T160506Z
LAST-MODIFIED:20250313T140407Z
UID:10003975-1775685600-1775691000@umdf.org
SUMMARY:LHON West Connect
DESCRIPTION:The LHON Southwest & LHON Pacific Northwest groups have merged!\n\nThis Zoom event is a great opportunity to connect and discuss resources of interest to the Southwest LHON (previously California) & Northwest LHON communities! Consider joining the call to share your experiences with others in a similar situation. Contact Bob Banks with any questions at rwbanks@hotmail.com or Patrick Doolittle at doolittlepc@gmail.com with any questions. \nThere are also Facebook groups for those in the Southwest & Northwest areas: \n\nSouthwest: https://www.facebook.com/groups/1634812156795801\nNorthwest: https://www.facebook.com/groups/240239936350807\n\nJoin Details:\nOne option is to use Internet Audio to call at no charge at: https://umdf.zoom.us/j/95371313871 \nMeeting ID: 953 7131 3871 \nOr if your phone plan includes Unlimited Minutes\, then here are Toll Charge numbers to  one-click call:\n+16699006833\,\,95371313871#\n+16468769923\,\,95371313871#
URL:https://umdf.org/event/lhon-west-connect/2026-04-08/
CATEGORIES:LHON,Pacific,Southwest,Support Meeting,West
ORGANIZER;CN="Kara Strittmatter":MAILTO:kara@umdf.org
END:VEVENT
END:VCALENDAR