BEGIN:VCALENDAR
VERSION:2.0
PRODID:-//UMDF - ECPv6.15.20//NONSGML v1.0//EN
CALSCALE:GREGORIAN
METHOD:PUBLISH
X-WR-CALNAME:UMDF
X-ORIGINAL-URL:https://umdf.org
X-WR-CALDESC:Events for UMDF
REFRESH-INTERVAL;VALUE=DURATION:PT1H
X-Robots-Tag:noindex
X-PUBLISHED-TTL:PT1H
BEGIN:VTIMEZONE
TZID:America/New_York
BEGIN:DAYLIGHT
TZOFFSETFROM:-0500
TZOFFSETTO:-0400
TZNAME:EDT
DTSTART:20250309T070000
END:DAYLIGHT
BEGIN:STANDARD
TZOFFSETFROM:-0400
TZOFFSETTO:-0500
TZNAME:EST
DTSTART:20251102T060000
END:STANDARD
BEGIN:DAYLIGHT
TZOFFSETFROM:-0500
TZOFFSETTO:-0400
TZNAME:EDT
DTSTART:20260308T070000
END:DAYLIGHT
BEGIN:STANDARD
TZOFFSETFROM:-0400
TZOFFSETTO:-0500
TZNAME:EST
DTSTART:20261101T060000
END:STANDARD
BEGIN:DAYLIGHT
TZOFFSETFROM:-0500
TZOFFSETTO:-0400
TZNAME:EDT
DTSTART:20270314T070000
END:DAYLIGHT
BEGIN:STANDARD
TZOFFSETFROM:-0400
TZOFFSETTO:-0500
TZNAME:EST
DTSTART:20271107T060000
END:STANDARD
END:VTIMEZONE
BEGIN:VEVENT
DTSTART;TZID=America/New_York:20260420T200000
DTEND;TZID=America/New_York:20260420T210000
DTSTAMP:20260423T090846
CREATED:20240117T130219Z
LAST-MODIFIED:20260209T142232Z
UID:10003862-1776715200-1776718800@umdf.org
SUMMARY:Parent and Caregiver Virtual Support Meeting
DESCRIPTION:Parent and Caregiver Virtual Support Meeting \nHello Parents and Caregivers impacted by Mitochondrial Disease! Please join us for a Parent and Caregiver Virtual Support Meeting. \nWe will get to know each other\, share resources\, and build community! \nJoin us for a VIRTUAL MEETING!\nThe THIRD Monday of every month!\n8:00pm-9:00pm ET\nRegister HERE \nAfter registering\, you will receive a confirmation email containing information about joining the meeting. \nFor questions\, please email Margaret Moore at: margaret.moore@umdf.org \nTHANK YOU TO OUR SPONSORS \nEdith L. Trees Charitable Trust \nAstellas \nJack Edwards Family Impact Fund
URL:https://umdf.org/event/parent-and-caregiver-virtual-support-meeting/2026-04-20/
CATEGORIES:Support Meeting
ORGANIZER;CN="Margaret Moore":MAILTO:margaret.moore@umdf.org
END:VEVENT
END:VCALENDAR