BEGIN:VCALENDAR
VERSION:2.0
PRODID:-//UMDF - ECPv6.15.20//NONSGML v1.0//EN
CALSCALE:GREGORIAN
METHOD:PUBLISH
X-WR-CALNAME:UMDF
X-ORIGINAL-URL:https://umdf.org
X-WR-CALDESC:Events for UMDF
REFRESH-INTERVAL;VALUE=DURATION:PT1H
X-Robots-Tag:noindex
X-PUBLISHED-TTL:PT1H
BEGIN:VTIMEZONE
TZID:America/Chicago
BEGIN:DAYLIGHT
TZOFFSETFROM:-0600
TZOFFSETTO:-0500
TZNAME:CDT
DTSTART:20250309T080000
END:DAYLIGHT
BEGIN:STANDARD
TZOFFSETFROM:-0500
TZOFFSETTO:-0600
TZNAME:CST
DTSTART:20251102T070000
END:STANDARD
BEGIN:DAYLIGHT
TZOFFSETFROM:-0600
TZOFFSETTO:-0500
TZNAME:CDT
DTSTART:20260308T080000
END:DAYLIGHT
BEGIN:STANDARD
TZOFFSETFROM:-0500
TZOFFSETTO:-0600
TZNAME:CST
DTSTART:20261101T070000
END:STANDARD
BEGIN:DAYLIGHT
TZOFFSETFROM:-0600
TZOFFSETTO:-0500
TZNAME:CDT
DTSTART:20270314T080000
END:DAYLIGHT
BEGIN:STANDARD
TZOFFSETFROM:-0500
TZOFFSETTO:-0600
TZNAME:CST
DTSTART:20271107T070000
END:STANDARD
END:VTIMEZONE
BEGIN:VEVENT
DTSTART;TZID=America/Chicago:20260425T103000
DTEND;TZID=America/Chicago:20260425T120000
DTSTAMP:20260423T092646
CREATED:20260401T183522Z
LAST-MODIFIED:20260401T183522Z
UID:10004462-1777113000-1777118400@umdf.org
SUMMARY:Minnesota In-Person Support Meeting
DESCRIPTION:We’d love to invite you to a casual\, in-person support gathering for individuals and families impacted by mitochondrial disease here in Minnesota. \nLiving with mitochondrial disease can feel isolating at times\, but you are not alone. This gathering is an opportunity to connect with others who understand the journey—whether you’re a patient\, parent\, caregiver\, or loved one. \nWhat to expect: \n\nA relaxed\, informal setting\nTime to share experiences (only if you feel comfortable)\nConnection\, understanding\, and community\nLight refreshments and conversation\n\nDetails:\n📍 Location: Anoka County Library\n410 Mississippi Street NE\nMinneapolis\,  Minnesota 55432 \n📅 Date: April 25\, 2026\n⏰ Time: 10:30am-12:00pm CT \nThere’s no agenda—just a chance to come together\, support one another\, and build meaningful connections. \nWhether this is your first time meeting others in the mitochondrial community or you’ve been connected for years\, we welcome you. \nPlease feel free to bring a friend\, family member\, or caregiver. \nIf you’re interested in attending or have any questions\, please reach out to Margaret Moore at margaret.moore@umdf.org \nWe hope to see you there!
URL:https://umdf.org/event/minnesota-in-person-support-meeting/
END:VEVENT
END:VCALENDAR