BEGIN:VCALENDAR
VERSION:2.0
PRODID:-//UMDF - ECPv6.15.20//NONSGML v1.0//EN
CALSCALE:GREGORIAN
METHOD:PUBLISH
X-ORIGINAL-URL:https://umdf.org
X-WR-CALDESC:Events for UMDF
REFRESH-INTERVAL;VALUE=DURATION:PT1H
X-Robots-Tag:noindex
X-PUBLISHED-TTL:PT1H
BEGIN:VTIMEZONE
TZID:America/New_York
BEGIN:DAYLIGHT
TZOFFSETFROM:-0500
TZOFFSETTO:-0400
TZNAME:EDT
DTSTART:20250309T070000
END:DAYLIGHT
BEGIN:STANDARD
TZOFFSETFROM:-0400
TZOFFSETTO:-0500
TZNAME:EST
DTSTART:20251102T060000
END:STANDARD
BEGIN:DAYLIGHT
TZOFFSETFROM:-0500
TZOFFSETTO:-0400
TZNAME:EDT
DTSTART:20260308T070000
END:DAYLIGHT
BEGIN:STANDARD
TZOFFSETFROM:-0400
TZOFFSETTO:-0500
TZNAME:EST
DTSTART:20261101T060000
END:STANDARD
BEGIN:DAYLIGHT
TZOFFSETFROM:-0500
TZOFFSETTO:-0400
TZNAME:EDT
DTSTART:20270314T070000
END:DAYLIGHT
BEGIN:STANDARD
TZOFFSETFROM:-0400
TZOFFSETTO:-0500
TZNAME:EST
DTSTART:20271107T060000
END:STANDARD
END:VTIMEZONE
BEGIN:VEVENT
DTSTART;TZID=America/New_York:20260429T200000
DTEND;TZID=America/New_York:20260429T210000
DTSTAMP:20260423T091934
CREATED:20260226T142149Z
LAST-MODIFIED:20260226T143638Z
UID:10004419-1777492800-1777496400@umdf.org
SUMMARY:LHON - Teens
DESCRIPTION:This call is ONLY for teens (under 18) who are affected with LHON vision loss. Consider joining the call to share your experiences with others in a similar situation. \nPlease contact Molly Garrone at mollyeknox@gmail.com with any questions. \nJoin Details:\nOne option is to use Internet Audio to call at no charge at: https://umdf.zoom.us/j/95371313871 \nMeeting ID: 953 7131 3871 \nOr if your phone plan includes Unlimited Minutes\, then here are Toll Charge numbers to one-click call:\n+16699006833\,\,95371313871#\n+16468769923\,\,95371313871#
URL:https://umdf.org/event/lhon-teens-2/2026-04-29/
CATEGORIES:LHON,Support Meeting
END:VEVENT
END:VCALENDAR