BEGIN:VCALENDAR
VERSION:2.0
PRODID:-//UMDF - ECPv6.15.20//NONSGML v1.0//EN
CALSCALE:GREGORIAN
METHOD:PUBLISH
X-WR-CALNAME:UMDF
X-ORIGINAL-URL:https://umdf.org
X-WR-CALDESC:Events for UMDF
REFRESH-INTERVAL;VALUE=DURATION:PT1H
X-Robots-Tag:noindex
X-PUBLISHED-TTL:PT1H
BEGIN:VTIMEZONE
TZID:America/New_York
BEGIN:DAYLIGHT
TZOFFSETFROM:-0500
TZOFFSETTO:-0400
TZNAME:EDT
DTSTART:20250309T070000
END:DAYLIGHT
BEGIN:STANDARD
TZOFFSETFROM:-0400
TZOFFSETTO:-0500
TZNAME:EST
DTSTART:20251102T060000
END:STANDARD
BEGIN:DAYLIGHT
TZOFFSETFROM:-0500
TZOFFSETTO:-0400
TZNAME:EDT
DTSTART:20260308T070000
END:DAYLIGHT
BEGIN:STANDARD
TZOFFSETFROM:-0400
TZOFFSETTO:-0500
TZNAME:EST
DTSTART:20261101T060000
END:STANDARD
BEGIN:DAYLIGHT
TZOFFSETFROM:-0500
TZOFFSETTO:-0400
TZNAME:EDT
DTSTART:20270314T070000
END:DAYLIGHT
BEGIN:STANDARD
TZOFFSETFROM:-0400
TZOFFSETTO:-0500
TZNAME:EST
DTSTART:20271107T060000
END:STANDARD
END:VTIMEZONE
BEGIN:VEVENT
DTSTART;TZID=America/New_York:20260507T200000
DTEND;TZID=America/New_York:20260507T210000
DTSTAMP:20260423T103822
CREATED:20231019T142537Z
LAST-MODIFIED:20251209T192747Z
UID:10002435-1778184000-1778187600@umdf.org
SUMMARY:Adult Virtual Support Meeting
DESCRIPTION:Adult Virtual Support Meeting \nHello Adults impacted by Mitochondrial Disease! Please join us for an Adult Virtual Support Meeting. \nWe will get to know each other\, share resources\, and build community! \nJoin us for a VIRTUAL MEETING!\nThe FIRST Thursday of every month!\n8:00pm-9:00pm ET\nRegister HERE \nAfter registering\, you will receive a confirmation email containing information about joining the meeting. \nFor questions\, please email Margaret Moore at: margaret.moore@5mr.c80.myftpupload.com \nTHANK YOU TO OUR SPONSORS \nEdith L. Trees Charitable Trust \nAstellas \nJack Edwards Family Impact Fund \n  \n 
URL:https://umdf.org/event/adult-virtual-support-meetingsep2022-2-2/2026-05-07/
CATEGORIES:Support Meeting
ORGANIZER;CN="Margaret Moore":MAILTO:margaret.moore@umdf.org
END:VEVENT
END:VCALENDAR