BEGIN:VCALENDAR
VERSION:2.0
PRODID:-//UMDF - ECPv6.15.20//NONSGML v1.0//EN
CALSCALE:GREGORIAN
METHOD:PUBLISH
X-WR-CALNAME:UMDF
X-ORIGINAL-URL:https://umdf.org
X-WR-CALDESC:Events for UMDF
REFRESH-INTERVAL;VALUE=DURATION:PT1H
X-Robots-Tag:noindex
X-PUBLISHED-TTL:PT1H
BEGIN:VTIMEZONE
TZID:America/New_York
BEGIN:DAYLIGHT
TZOFFSETFROM:-0500
TZOFFSETTO:-0400
TZNAME:EDT
DTSTART:20250309T070000
END:DAYLIGHT
BEGIN:STANDARD
TZOFFSETFROM:-0400
TZOFFSETTO:-0500
TZNAME:EST
DTSTART:20251102T060000
END:STANDARD
BEGIN:DAYLIGHT
TZOFFSETFROM:-0500
TZOFFSETTO:-0400
TZNAME:EDT
DTSTART:20260308T070000
END:DAYLIGHT
BEGIN:STANDARD
TZOFFSETFROM:-0400
TZOFFSETTO:-0500
TZNAME:EST
DTSTART:20261101T060000
END:STANDARD
BEGIN:DAYLIGHT
TZOFFSETFROM:-0500
TZOFFSETTO:-0400
TZNAME:EDT
DTSTART:20270314T070000
END:DAYLIGHT
BEGIN:STANDARD
TZOFFSETFROM:-0400
TZOFFSETTO:-0500
TZNAME:EST
DTSTART:20271107T060000
END:STANDARD
END:VTIMEZONE
BEGIN:VEVENT
DTSTART;TZID=America/New_York:20260527T200000
DTEND;TZID=America/New_York:20260527T210000
DTSTAMP:20260423T105830
CREATED:20250313T202854Z
LAST-MODIFIED:20260226T150619Z
UID:10004439-1779912000-1779915600@umdf.org
SUMMARY:Parenting with LHON
DESCRIPTION:This Zoom event is for anyone interested in discussing parenting while affected with LHON vision loss. Bring your questions and comments to share with the group.\n\nJoin Details:\nOne option is to use Internet Audio to call at no charge at: https://umdf.zoom.us/j/95371313871\n\nMeeting ID: 953 7131 3871\n\nOr join by phone with one tap mobile:\n+16699006833\,\,95371313871#\n+16468769923\,\,95371313871#\n\nCanada: +16475580588\,\,95371313871#\nAustralia: +61280152088\,\,95371313871#\nUK: +442034815240\,\,95371313871#\nFor callers in other countries\, find your local number here:\nhttps://zoom.us/u/aYbvpoNU9\nMeeting ID: 953 7131 3871
URL:https://umdf.org/event/parenting-with-lhon/2026-05-27/
CATEGORIES:LHON,Support Meeting
END:VEVENT
END:VCALENDAR