BEGIN:VCALENDAR
VERSION:2.0
PRODID:-//UMDF - ECPv6.15.20//NONSGML v1.0//EN
CALSCALE:GREGORIAN
METHOD:PUBLISH
X-WR-CALNAME:UMDF
X-ORIGINAL-URL:https://umdf.org
X-WR-CALDESC:Events for UMDF
REFRESH-INTERVAL;VALUE=DURATION:PT1H
X-Robots-Tag:noindex
X-PUBLISHED-TTL:PT1H
BEGIN:VTIMEZONE
TZID:America/New_York
BEGIN:DAYLIGHT
TZOFFSETFROM:-0500
TZOFFSETTO:-0400
TZNAME:EDT
DTSTART:20250309T070000
END:DAYLIGHT
BEGIN:STANDARD
TZOFFSETFROM:-0400
TZOFFSETTO:-0500
TZNAME:EST
DTSTART:20251102T060000
END:STANDARD
BEGIN:DAYLIGHT
TZOFFSETFROM:-0500
TZOFFSETTO:-0400
TZNAME:EDT
DTSTART:20260308T070000
END:DAYLIGHT
BEGIN:STANDARD
TZOFFSETFROM:-0400
TZOFFSETTO:-0500
TZNAME:EST
DTSTART:20261101T060000
END:STANDARD
BEGIN:DAYLIGHT
TZOFFSETFROM:-0500
TZOFFSETTO:-0400
TZNAME:EDT
DTSTART:20270314T070000
END:DAYLIGHT
BEGIN:STANDARD
TZOFFSETFROM:-0400
TZOFFSETTO:-0500
TZNAME:EST
DTSTART:20271107T060000
END:STANDARD
END:VTIMEZONE
BEGIN:VTIMEZONE
TZID:America/Chicago
BEGIN:DAYLIGHT
TZOFFSETFROM:-0600
TZOFFSETTO:-0500
TZNAME:CDT
DTSTART:20250309T080000
END:DAYLIGHT
BEGIN:STANDARD
TZOFFSETFROM:-0500
TZOFFSETTO:-0600
TZNAME:CST
DTSTART:20251102T070000
END:STANDARD
BEGIN:DAYLIGHT
TZOFFSETFROM:-0600
TZOFFSETTO:-0500
TZNAME:CDT
DTSTART:20260308T080000
END:DAYLIGHT
BEGIN:STANDARD
TZOFFSETFROM:-0500
TZOFFSETTO:-0600
TZNAME:CST
DTSTART:20261101T070000
END:STANDARD
BEGIN:DAYLIGHT
TZOFFSETFROM:-0600
TZOFFSETTO:-0500
TZNAME:CDT
DTSTART:20270314T080000
END:DAYLIGHT
BEGIN:STANDARD
TZOFFSETFROM:-0500
TZOFFSETTO:-0600
TZNAME:CST
DTSTART:20271107T070000
END:STANDARD
END:VTIMEZONE
BEGIN:VEVENT
DTSTART;TZID=America/New_York:20260528T123000
DTEND;TZID=America/New_York:20260528T133000
DTSTAMP:20260423T104930
CREATED:20260422T113433Z
LAST-MODIFIED:20260422T113433Z
UID:10004468-1779971400-1779975000@umdf.org
SUMMARY:UMDF Ask the Mito Doc Webcast Series – What's Happening Mito Med 2026
DESCRIPTION:The United Mitochondrial Disease Foundation is pleased to offer the Ask the Mito Doc Webcast Series on a monthly basis to keep our patients and families connected to the mitochondrial medical community.  Each month\, we will highlight a specific topic with a short presentation and allow 15-20 minutes for question and answer time with the clinicians and guest speakers.  \n\nJoin us on May 28\, 2026\nat 9:30am Pacific/10:30am Mountain/11:30am Central/12:30pm Eastern \nClick Here to Register \nAgenda \n\nJoin us to hear from UMDF Staff and volunteers about what will be happening at UMDF Mito Med 2026. We will share more information about sessions and the networking opportunities. \n  \n\n\nWe invite you to submit your questions for the Ask the Mito Doc webcast in advance.  We will take as many questions as possible before\, during and after the webinar.  Question and Answer Protocol – Most questions pertinent to the monthly topic are typically addressed during the presentation(s).  Please note that not all questions can be answered through this forum.  If you submit a question and do not receive a response\, please do not hesitate to contact us at margaret.moore@umdf.org.  \nClick Here to Submit Your Question! \nWe hope you can join us May 28\, 2026.  Registration is required.  After registering\, you will receive a confirmation email with Zoom credentials.  \nIf you are new to using ZOOM\, we suggest that you log in early on your computer or the device you plan to use.  Feel free to log in to the meeting link today.  It is so important that you do this in advance as we may not be able to assist you once the webcast begins.  If you have any questions\, contact Margaret Moore at margaret.moore@umdf.org or 412-744-1061\, ext 105. \nWe are committed to providing needed support for our patient community.   \nCall our support line at 1-888-900-MITO to speak with a member of our patient services team.\nAlways remember\, we are here to help you and your family through your journey! \nSpecial Thanks to \n  \n \n 
URL:https://umdf.org/event/umdf-ask-the-mito-doc-webcast-series-mitomed2026/
CATEGORIES:Ask the Mito Doc,Education
ORGANIZER;CN="Kara Strittmatter":MAILTO:kara@umdf.org
END:VEVENT
BEGIN:VEVENT
DTSTART;TZID=America/Chicago:20260528T190000
DTEND;TZID=America/Chicago:20260528T200000
DTSTAMP:20260423T104930
CREATED:20240620T144219Z
LAST-MODIFIED:20251209T192223Z
UID:10001406-1779994800-1779998400@umdf.org
SUMMARY:Central Region Virtual Support Meeting
DESCRIPTION:Central Region Virtual Support Meeting \nUMDF hosts regular virtual support group meetings and events for patients and families affected by mitochondrial disease. Join us to gain coping tips\, share your story and connect with others. We hope you will attend and see that you are not alone. \nFourth Thursday of each month • 7:00pm – 8:00pm Central \nLearn more & register here. \nRegistration is required\, and you will receive a confirmation email with information to join the meeting. If you have any questions\, contact Margaret Moore at margaret.moore@5mr.c80.myftpupload.com or 412-744-1061 Ext 105. \nVisit the UMDF Event Calendar for all updates and upcoming events here.  \nSpecial Thanks to our Sponsors\nEdith L. Trees Charitable Trust • Jack Edwards Family Impact Fund
URL:https://umdf.org/event/central-region-virtual-support-meeting-2/2026-05-28/
END:VEVENT
END:VCALENDAR