BEGIN:VCALENDAR
VERSION:2.0
PRODID:-//UMDF - ECPv6.15.20//NONSGML v1.0//EN
CALSCALE:GREGORIAN
METHOD:PUBLISH
X-WR-CALNAME:UMDF
X-ORIGINAL-URL:https://umdf.org
X-WR-CALDESC:Events for UMDF
REFRESH-INTERVAL;VALUE=DURATION:PT1H
X-Robots-Tag:noindex
X-PUBLISHED-TTL:PT1H
BEGIN:VTIMEZONE
TZID:America/New_York
BEGIN:DAYLIGHT
TZOFFSETFROM:-0500
TZOFFSETTO:-0400
TZNAME:EDT
DTSTART:20250309T070000
END:DAYLIGHT
BEGIN:STANDARD
TZOFFSETFROM:-0400
TZOFFSETTO:-0500
TZNAME:EST
DTSTART:20251102T060000
END:STANDARD
BEGIN:DAYLIGHT
TZOFFSETFROM:-0500
TZOFFSETTO:-0400
TZNAME:EDT
DTSTART:20260308T070000
END:DAYLIGHT
BEGIN:STANDARD
TZOFFSETFROM:-0400
TZOFFSETTO:-0500
TZNAME:EST
DTSTART:20261101T060000
END:STANDARD
BEGIN:DAYLIGHT
TZOFFSETFROM:-0500
TZOFFSETTO:-0400
TZNAME:EDT
DTSTART:20270314T070000
END:DAYLIGHT
BEGIN:STANDARD
TZOFFSETFROM:-0400
TZOFFSETTO:-0500
TZNAME:EST
DTSTART:20271107T060000
END:STANDARD
END:VTIMEZONE
BEGIN:VEVENT
DTSTART;TZID=America/New_York:20260605T200000
DTEND;TZID=America/New_York:20260605T210000
DTSTAMP:20260423T103835
CREATED:20250113T183749Z
LAST-MODIFIED:20250113T183753Z
UID:10002161-1780689600-1780693200@umdf.org
SUMMARY:Teen and Young Adult Virtual Meet-Up Ages 16-35
DESCRIPTION:UMDF Teen/Young Adult \n“Virtual Meet-Up” \nTeens and Young Adults Age 16-35 \nEvery Friday!\n8:00pm ET \nJoin us EVERY Friday for a VIRTUAL Meet-Up! \nJoin us for this “Virtual Meet-Up”! It is tough being stuck at home\, but you are not alone. Let’s get together\, share coping tips and have some FUN! \nUMDF Support Ambassadors\, Kristi Dellinger and Devin Shuman will lead these calls.\nSee you on Friday! \nRegister in advance for this meeting:\nIf you registered last week\, you can use the same information to join every week!\nClick Here to Register Now \nAfter registering\, you will receive a confirmation email containing information about joining the meeting. \nIf you have questions\, please email Margaret Moore at margaret.moore@umdf.org
URL:https://umdf.org/event/young-adult-virtual-happy-hour-ages-16-35-2-2-2-2021-01-22-2-3-2/2026-06-05/
CATEGORIES:Support Meeting
ORGANIZER;CN="Margaret Moore":MAILTO:margaret.moore@umdf.org
END:VEVENT
END:VCALENDAR