BEGIN:VCALENDAR
VERSION:2.0
PRODID:-//UMDF - ECPv6.15.20//NONSGML v1.0//EN
CALSCALE:GREGORIAN
METHOD:PUBLISH
X-ORIGINAL-URL:https://umdf.org
X-WR-CALDESC:Events for UMDF
REFRESH-INTERVAL;VALUE=DURATION:PT1H
X-Robots-Tag:noindex
X-PUBLISHED-TTL:PT1H
BEGIN:VTIMEZONE
TZID:America/New_York
BEGIN:DAYLIGHT
TZOFFSETFROM:-0500
TZOFFSETTO:-0400
TZNAME:EDT
DTSTART:20250309T070000
END:DAYLIGHT
BEGIN:STANDARD
TZOFFSETFROM:-0400
TZOFFSETTO:-0500
TZNAME:EST
DTSTART:20251102T060000
END:STANDARD
BEGIN:DAYLIGHT
TZOFFSETFROM:-0500
TZOFFSETTO:-0400
TZNAME:EDT
DTSTART:20260308T070000
END:DAYLIGHT
BEGIN:STANDARD
TZOFFSETFROM:-0400
TZOFFSETTO:-0500
TZNAME:EST
DTSTART:20261101T060000
END:STANDARD
BEGIN:DAYLIGHT
TZOFFSETFROM:-0500
TZOFFSETTO:-0400
TZNAME:EDT
DTSTART:20270314T070000
END:DAYLIGHT
BEGIN:STANDARD
TZOFFSETFROM:-0400
TZOFFSETTO:-0500
TZNAME:EST
DTSTART:20271107T060000
END:STANDARD
END:VTIMEZONE
BEGIN:VEVENT
DTSTART;TZID=America/New_York:20260618T190000
DTEND;TZID=America/New_York:20260618T200000
DTSTAMP:20260423T122925
CREATED:20210727T145309Z
LAST-MODIFIED:20210727T145309Z
UID:10001161-1781809200-1781812800@umdf.org
SUMMARY:LHON - New York\, New Jersey\, Pennsylvania Connect
DESCRIPTION:Please Join Us! \nThis call for those living in New York\, New Jersey\, or Pennsylvania with an interest in LHON takes place quarterly on the third Thursday of the month at 7:00pm EST. Hosts Jim and Mary Tolve facilitate this call. Consider joining the call and sharing your experiences with others in a similar situation. \nThe following Facebook Groups are also available: \n\nNew York Group – Click here\nNew Jersey Group – Click here\nPennsylvania Group – Click here\n\nReach out to Jim Tolve at jetragnar@gmail.com with any questions. \nJoin Details:\nOne option is to use Internet Audio to call at no charge at:\nhttps://umdf.zoom.us/j/95371313871\nMeeting ID: 953 7131 3871 \nOr if your phone plan includes Unlimited Minutes\, then here are Toll Charge numbers to one-click call:\n+13017158592\,\,95371313871# US\n+13126266799\,\,95371313871# US
URL:https://umdf.org/event/lhon-new-york-new-jersey-pennsylvania-connect-2024-12-19/
CATEGORIES:LHON,Support Meeting
ORGANIZER;CN="Kara Strittmatter":MAILTO:kara@umdf.org
END:VEVENT
END:VCALENDAR