BEGIN:VCALENDAR
VERSION:2.0
PRODID:-//UMDF - ECPv6.15.20//NONSGML v1.0//EN
CALSCALE:GREGORIAN
METHOD:PUBLISH
X-ORIGINAL-URL:https://umdf.org
X-WR-CALDESC:Events for UMDF
REFRESH-INTERVAL;VALUE=DURATION:PT1H
X-Robots-Tag:noindex
X-PUBLISHED-TTL:PT1H
BEGIN:VTIMEZONE
TZID:America/New_York
BEGIN:DAYLIGHT
TZOFFSETFROM:-0500
TZOFFSETTO:-0400
TZNAME:EDT
DTSTART:20250309T070000
END:DAYLIGHT
BEGIN:STANDARD
TZOFFSETFROM:-0400
TZOFFSETTO:-0500
TZNAME:EST
DTSTART:20251102T060000
END:STANDARD
BEGIN:DAYLIGHT
TZOFFSETFROM:-0500
TZOFFSETTO:-0400
TZNAME:EDT
DTSTART:20260308T070000
END:DAYLIGHT
BEGIN:STANDARD
TZOFFSETFROM:-0400
TZOFFSETTO:-0500
TZNAME:EST
DTSTART:20261101T060000
END:STANDARD
BEGIN:DAYLIGHT
TZOFFSETFROM:-0500
TZOFFSETTO:-0400
TZNAME:EDT
DTSTART:20270314T070000
END:DAYLIGHT
BEGIN:STANDARD
TZOFFSETFROM:-0400
TZOFFSETTO:-0500
TZNAME:EST
DTSTART:20271107T060000
END:STANDARD
END:VTIMEZONE
BEGIN:VEVENT
DTSTART;TZID=America/New_York:20260714T200000
DTEND;TZID=America/New_York:20260714T210000
DTSTAMP:20260423T134943
CREATED:20260226T145735Z
LAST-MODIFIED:20260226T145852Z
UID:10004427-1784059200-1784062800@umdf.org
SUMMARY:LHON - Northeast Connect
DESCRIPTION:This call is for those living in the Northeast with an interest in LHON. Consider joining the call and sharing your experiences with others in a similar situation. \nThe Northeast includes all the New England states (Maine\, Vermont\, New Hampshire\, Massachusetts\, Connecticut\, & Rhode Island)\, New York\, New Jersey\, and Pennsylvania. \nThere are various Facebook groups for these locations: \n  \n\nNew England Group\nNew York Group\nNew Jersey Group\nPennsylvania Group\n\n  \nReach out to Jim Tolve at jetragnar@gmail.com with any questions. \nJoin Details:\nOne option is to use Internet Audio to call at no charge at: https://umdf.zoom.us/j/95371313871 \nMeeting ID: 953 7131 3871 \nOr if your phone plan includes Unlimited Minutes\, then here are Toll Charge numbers to one-click call:\n+16699006833\,\,95371313871#\n+16468769923\,\,95371313871#
URL:https://umdf.org/event/lhon-northeast-connect/2026-07-14/
CATEGORIES:LHON
END:VEVENT
END:VCALENDAR