BEGIN:VCALENDAR
VERSION:2.0
PRODID:-//UMDF - ECPv6.15.20//NONSGML v1.0//EN
CALSCALE:GREGORIAN
METHOD:PUBLISH
X-ORIGINAL-URL:https://umdf.org
X-WR-CALDESC:Events for UMDF
REFRESH-INTERVAL;VALUE=DURATION:PT1H
X-Robots-Tag:noindex
X-PUBLISHED-TTL:PT1H
BEGIN:VTIMEZONE
TZID:America/New_York
BEGIN:DAYLIGHT
TZOFFSETFROM:-0500
TZOFFSETTO:-0400
TZNAME:EDT
DTSTART:20250309T070000
END:DAYLIGHT
BEGIN:STANDARD
TZOFFSETFROM:-0400
TZOFFSETTO:-0500
TZNAME:EST
DTSTART:20251102T060000
END:STANDARD
BEGIN:DAYLIGHT
TZOFFSETFROM:-0500
TZOFFSETTO:-0400
TZNAME:EDT
DTSTART:20260308T070000
END:DAYLIGHT
BEGIN:STANDARD
TZOFFSETFROM:-0400
TZOFFSETTO:-0500
TZNAME:EST
DTSTART:20261101T060000
END:STANDARD
BEGIN:DAYLIGHT
TZOFFSETFROM:-0500
TZOFFSETTO:-0400
TZNAME:EDT
DTSTART:20270314T070000
END:DAYLIGHT
BEGIN:STANDARD
TZOFFSETFROM:-0400
TZOFFSETTO:-0500
TZNAME:EST
DTSTART:20271107T060000
END:STANDARD
END:VTIMEZONE
BEGIN:VEVENT
DTSTART;TZID=America/New_York:20260806T200000
DTEND;TZID=America/New_York:20260806T210000
DTSTAMP:20260423T151531
CREATED:20231019T142537Z
LAST-MODIFIED:20251209T192747Z
UID:10002438-1786046400-1786050000@umdf.org
SUMMARY:Adult Virtual Support Meeting
DESCRIPTION:Adult Virtual Support Meeting \nHello Adults impacted by Mitochondrial Disease! Please join us for an Adult Virtual Support Meeting. \nWe will get to know each other\, share resources\, and build community! \nJoin us for a VIRTUAL MEETING!\nThe FIRST Thursday of every month!\n8:00pm-9:00pm ET\nRegister HERE \nAfter registering\, you will receive a confirmation email containing information about joining the meeting. \nFor questions\, please email Margaret Moore at: margaret.moore@5mr.c80.myftpupload.com \nTHANK YOU TO OUR SPONSORS \nEdith L. Trees Charitable Trust \nAstellas \nJack Edwards Family Impact Fund \n  \n 
URL:https://umdf.org/event/adult-virtual-support-meetingsep2022-2-2/2026-08-06/
CATEGORIES:Support Meeting
ORGANIZER;CN="Margaret Moore":MAILTO:margaret.moore@umdf.org
END:VEVENT
BEGIN:VEVENT
DTSTART;TZID=America/New_York:20260806T200000
DTEND;TZID=America/New_York:20260806T213000
DTSTAMP:20260423T151531
CREATED:20240109T041301Z
LAST-MODIFIED:20260309T143149Z
UID:10004442-1786046400-1786051800@umdf.org
SUMMARY:Navigating Education with LHON
DESCRIPTION:This Zoom event is your chance to connect with other students\, educators\, parents and other sighted supporters to discuss Navigating Education with LHON. \nPlease feel free to invite anyone who would benefit from this discussion to join this casual\, lively Zoom event. Bring any questions\, tips or suggestions you may have\, as the discussion will cover the topics of interest to those who attend! \nThere’s also a Facebook group for this topic at: https://www.facebook.com/groups/1239982996028116 \nJoin Details:\nOne option is to use Internet Audio to call at no charge at: https://umdf.zoom.us/j/95371313871\nMeeting ID: 953 7131 3871 \nOr if your phone plan includes Unlimited Minutes\, then here are Toll Charge numbers to one-click call:\n+16699006833\,\,95371313871#\n+16468769923\,\,95371313871#
URL:https://umdf.org/event/navigating-education-with-lhon/2026-08-06/
CATEGORIES:Education,LHON,Support Meeting
END:VEVENT
END:VCALENDAR