BEGIN:VCALENDAR
VERSION:2.0
PRODID:-//UMDF - ECPv6.15.20//NONSGML v1.0//EN
CALSCALE:GREGORIAN
METHOD:PUBLISH
X-ORIGINAL-URL:https://umdf.org
X-WR-CALDESC:Events for UMDF
REFRESH-INTERVAL;VALUE=DURATION:PT1H
X-Robots-Tag:noindex
X-PUBLISHED-TTL:PT1H
BEGIN:VTIMEZONE
TZID:America/New_York
BEGIN:DAYLIGHT
TZOFFSETFROM:-0500
TZOFFSETTO:-0400
TZNAME:EDT
DTSTART:20250309T070000
END:DAYLIGHT
BEGIN:STANDARD
TZOFFSETFROM:-0400
TZOFFSETTO:-0500
TZNAME:EST
DTSTART:20251102T060000
END:STANDARD
BEGIN:DAYLIGHT
TZOFFSETFROM:-0500
TZOFFSETTO:-0400
TZNAME:EDT
DTSTART:20260308T070000
END:DAYLIGHT
BEGIN:STANDARD
TZOFFSETFROM:-0400
TZOFFSETTO:-0500
TZNAME:EST
DTSTART:20261101T060000
END:STANDARD
BEGIN:DAYLIGHT
TZOFFSETFROM:-0500
TZOFFSETTO:-0400
TZNAME:EDT
DTSTART:20270314T070000
END:DAYLIGHT
BEGIN:STANDARD
TZOFFSETFROM:-0400
TZOFFSETTO:-0500
TZNAME:EST
DTSTART:20271107T060000
END:STANDARD
END:VTIMEZONE
BEGIN:VEVENT
DTSTART;TZID=America/New_York:20260817T200000
DTEND;TZID=America/New_York:20260817T210000
DTSTAMP:20260423T151530
CREATED:20240117T130219Z
LAST-MODIFIED:20260209T142232Z
UID:10003866-1786996800-1787000400@umdf.org
SUMMARY:Parent and Caregiver Virtual Support Meeting
DESCRIPTION:Parent and Caregiver Virtual Support Meeting \nHello Parents and Caregivers impacted by Mitochondrial Disease! Please join us for a Parent and Caregiver Virtual Support Meeting. \nWe will get to know each other\, share resources\, and build community! \nJoin us for a VIRTUAL MEETING!\nThe THIRD Monday of every month!\n8:00pm-9:00pm ET\nRegister HERE \nAfter registering\, you will receive a confirmation email containing information about joining the meeting. \nFor questions\, please email Margaret Moore at: margaret.moore@umdf.org \nTHANK YOU TO OUR SPONSORS \nEdith L. Trees Charitable Trust \nAstellas \nJack Edwards Family Impact Fund
URL:https://umdf.org/event/parent-and-caregiver-virtual-support-meeting/2026-08-17/
CATEGORIES:Support Meeting
ORGANIZER;CN="Margaret Moore":MAILTO:margaret.moore@umdf.org
END:VEVENT
BEGIN:VEVENT
DTSTART;TZID=America/New_York:20260817T200000
DTEND;TZID=America/New_York:20260817T210000
DTSTAMP:20260423T151530
CREATED:20250313T131930Z
LAST-MODIFIED:20260309T145304Z
UID:10003912-1786996800-1787000400@umdf.org
SUMMARY:LHON Midwest Connect
DESCRIPTION:This call is for those living in the Midwest with an interest in LHON. Consider joining the call and sharing your experiences with others in a similar situation. Reach out to Lissa Poincenot at lhonpoince@aol.com with any questions. \nJoin Details:\nOne option is to use Internet Audio to call at no charge at: https://umdf.zoom.us/j/95371313871 \nMeeting ID: 953 7131 3871 \nOr if your phone plan includes Unlimited Minutes\, then here are Toll Charge numbers to one-click call:\n+16699006833\,\,95371313871#\n+16468769923\,\,95371313871#
URL:https://umdf.org/event/lhon-midwest-connect/2026-08-17/
CATEGORIES:LHON,Support Meeting
END:VEVENT
END:VCALENDAR