BEGIN:VCALENDAR
VERSION:2.0
PRODID:-//UMDF - ECPv6.15.20//NONSGML v1.0//EN
CALSCALE:GREGORIAN
METHOD:PUBLISH
X-WR-CALNAME:UMDF
X-ORIGINAL-URL:https://umdf.org
X-WR-CALDESC:Events for UMDF
REFRESH-INTERVAL;VALUE=DURATION:PT1H
X-Robots-Tag:noindex
X-PUBLISHED-TTL:PT1H
BEGIN:VTIMEZONE
TZID:America/New_York
BEGIN:DAYLIGHT
TZOFFSETFROM:-0500
TZOFFSETTO:-0400
TZNAME:EDT
DTSTART:20250309T070000
END:DAYLIGHT
BEGIN:STANDARD
TZOFFSETFROM:-0400
TZOFFSETTO:-0500
TZNAME:EST
DTSTART:20251102T060000
END:STANDARD
BEGIN:DAYLIGHT
TZOFFSETFROM:-0500
TZOFFSETTO:-0400
TZNAME:EDT
DTSTART:20260308T070000
END:DAYLIGHT
BEGIN:STANDARD
TZOFFSETFROM:-0400
TZOFFSETTO:-0500
TZNAME:EST
DTSTART:20261101T060000
END:STANDARD
BEGIN:DAYLIGHT
TZOFFSETFROM:-0500
TZOFFSETTO:-0400
TZNAME:EDT
DTSTART:20270314T070000
END:DAYLIGHT
BEGIN:STANDARD
TZOFFSETFROM:-0400
TZOFFSETTO:-0500
TZNAME:EST
DTSTART:20271107T060000
END:STANDARD
END:VTIMEZONE
BEGIN:VEVENT
DTSTART;TZID=America/New_York:20260818T200000
DTEND;TZID=America/New_York:20260818T213000
DTSTAMP:20260423T151343
CREATED:20250206T193637Z
LAST-MODIFIED:20250206T193754Z
UID:10003696-1787083200-1787088600@umdf.org
SUMMARY:Spouses of LHON - Affected Individuals
DESCRIPTION:Are you the spouse (or similar) of someone affected by LHON? Would you like to network with others in a similar situation? Consider joining our event for Spouses of LHON-Affected Individuals Zoom event. This Zoom event is a great opportunity to get to know each other and share LHON-related experiences. \nJoin Details:\nOne option is to use Internet Audio to call at no charge at:\nhttps://umdf.zoom.us/j/95371313871\nMeeting ID: 953 7131 3871 \nOr if your phone plan includes Unlimited Minutes\, then here are Toll Charge numbers to one-click call: \n+13017158592\,\,95371313871# US\n+13126266799\,\,95371313871# US\nCanada: +16475580588\,\,95371313871#\nAustralia: +61280152088\,\,95371313871#\nUK: +442034815240\,\,95371313871#\n\nFor callers in other countries\, find your local number here:\nhttps://zoom.us/u/aYbvpoNU9\nMeeting ID: 953 7131 3871
URL:https://umdf.org/event/spouses-of-lhon-affected-individuals/2026-08-18/
CATEGORIES:LHON,Support Meeting
END:VEVENT
END:VCALENDAR