BEGIN:VCALENDAR
VERSION:2.0
PRODID:-//UMDF - ECPv6.15.20//NONSGML v1.0//EN
CALSCALE:GREGORIAN
METHOD:PUBLISH
X-WR-CALNAME:UMDF
X-ORIGINAL-URL:https://umdf.org
X-WR-CALDESC:Events for UMDF
REFRESH-INTERVAL;VALUE=DURATION:PT1H
X-Robots-Tag:noindex
X-PUBLISHED-TTL:PT1H
BEGIN:VTIMEZONE
TZID:America/New_York
BEGIN:DAYLIGHT
TZOFFSETFROM:-0500
TZOFFSETTO:-0400
TZNAME:EDT
DTSTART:20250309T070000
END:DAYLIGHT
BEGIN:STANDARD
TZOFFSETFROM:-0400
TZOFFSETTO:-0500
TZNAME:EST
DTSTART:20251102T060000
END:STANDARD
BEGIN:DAYLIGHT
TZOFFSETFROM:-0500
TZOFFSETTO:-0400
TZNAME:EDT
DTSTART:20260308T070000
END:DAYLIGHT
BEGIN:STANDARD
TZOFFSETFROM:-0400
TZOFFSETTO:-0500
TZNAME:EST
DTSTART:20261101T060000
END:STANDARD
BEGIN:DAYLIGHT
TZOFFSETFROM:-0500
TZOFFSETTO:-0400
TZNAME:EDT
DTSTART:20270314T070000
END:DAYLIGHT
BEGIN:STANDARD
TZOFFSETFROM:-0400
TZOFFSETTO:-0500
TZNAME:EST
DTSTART:20271107T060000
END:STANDARD
END:VTIMEZONE
BEGIN:VEVENT
DTSTART;TZID=America/New_York:20260819T200000
DTEND;TZID=America/New_York:20260819T213000
DTSTAMP:20260423T151437
CREATED:20250206T185144Z
LAST-MODIFIED:20260309T144427Z
UID:10004457-1787169600-1787175000@umdf.org
SUMMARY:Dads of LHON - Affected "Kids of All Ages"
DESCRIPTION:The bimonthly call for Dads of LHON-Affected “Kids of All Ages” takes place on the third Wednesday of every other month at 8:00pm Eastern/5:00pm Pacific. If you’re a dad of someone affected by LHON\, consider joining the call and sharing your experiences with others in a similar situation.  Hosts Tony Wright and Jim Tolve host this open-discussion format call. Reach out to Jim Tolve at jetragnar@gmail.com or Tony Wright at AWright201@gmail.com with any questions. \nThere’s also a Facebook group for Dads of LHON-Affected”Kids of All Ages” located at this link: https://www.facebook.com/groups/175672076390420 \nJoin Details:\nOne option is to use Internet Audio to call at no charge at: https://umdf.zoom.us/j/95371313871 \nMeeting ID: 953 7131 3871 \nOr if your phone plan includes Unlimited Minutes\, then here are Toll Charge numbers to one-click call:\n+16699006833\,\,95371313871#\n+16468769923\,\,95371313871#
URL:https://umdf.org/event/dads-of-lhon-affected-kids-of-all-ages/2026-08-19/
CATEGORIES:LHON,Support Meeting
END:VEVENT
END:VCALENDAR