BEGIN:VCALENDAR
VERSION:2.0
PRODID:-//UMDF - ECPv6.15.20//NONSGML v1.0//EN
CALSCALE:GREGORIAN
METHOD:PUBLISH
X-ORIGINAL-URL:https://umdf.org
X-WR-CALDESC:Events for UMDF
REFRESH-INTERVAL;VALUE=DURATION:PT1H
X-Robots-Tag:noindex
X-PUBLISHED-TTL:PT1H
BEGIN:VTIMEZONE
TZID:America/New_York
BEGIN:DAYLIGHT
TZOFFSETFROM:-0500
TZOFFSETTO:-0400
TZNAME:EDT
DTSTART:20240310T070000
END:DAYLIGHT
BEGIN:STANDARD
TZOFFSETFROM:-0400
TZOFFSETTO:-0500
TZNAME:EST
DTSTART:20241103T060000
END:STANDARD
BEGIN:DAYLIGHT
TZOFFSETFROM:-0500
TZOFFSETTO:-0400
TZNAME:EDT
DTSTART:20250309T070000
END:DAYLIGHT
BEGIN:STANDARD
TZOFFSETFROM:-0400
TZOFFSETTO:-0500
TZNAME:EST
DTSTART:20251102T060000
END:STANDARD
BEGIN:DAYLIGHT
TZOFFSETFROM:-0500
TZOFFSETTO:-0400
TZNAME:EDT
DTSTART:20260308T070000
END:DAYLIGHT
BEGIN:STANDARD
TZOFFSETFROM:-0400
TZOFFSETTO:-0500
TZNAME:EST
DTSTART:20261101T060000
END:STANDARD
END:VTIMEZONE
BEGIN:VEVENT
DTSTART;TZID=America/New_York:20250624T200000
DTEND;TZID=America/New_York:20250624T213000
DTSTAMP:20260423T045541
CREATED:20250206T194151Z
LAST-MODIFIED:20250313T201615Z
UID:10003705-1750795200-1750800600@umdf.org
SUMMARY:LHON Assistive Technology
DESCRIPTION:This Zoom event is for anyone interested in discussing LHON & Assistive Technology. The event is led by Sara Nappi. Sara is affected by LHON\, and she is an Assistive Technology instructor. \nThere is also a Facebook group: LHON Assistive Technology\n\nTo join the Zoom event\, use the link below:\nhttps://umdf.zoom.us/j/95371313871\n\nMeeting ID: 953 7131 3871\n\nOr join by phone with one tap mobile:\n+16699006833\,\,95371313871#\n+16468769923\,\,95371313871#\n\nCanada: +16475580588\,\,95371313871#\nAustralia: +61280152088\,\,95371313871#\nUK: +442034815240\,\,95371313871#\nFor callers in other countries\, find your local number here:\nhttps://zoom.us/u/aYbvpoNU9\nMeeting ID: 953 7131 3871 \nPlease direct message Sara Nappi with any questions\, concerns or topic suggestions. \n\n\n\n\n\nMore details\nMore details\nCopy to my calendar\nCopy to my calendar
URL:https://umdf.org/event/lhon-assistive-technology/2025-06-24/
CATEGORIES:LHON,Support Meeting
END:VEVENT
END:VCALENDAR