BEGIN:VCALENDAR
VERSION:2.0
PRODID:-//UMDF - ECPv6.15.20//NONSGML v1.0//EN
CALSCALE:GREGORIAN
METHOD:PUBLISH
X-WR-CALNAME:UMDF
X-ORIGINAL-URL:https://umdf.org
X-WR-CALDESC:Events for UMDF
REFRESH-INTERVAL;VALUE=DURATION:PT1H
X-Robots-Tag:noindex
X-PUBLISHED-TTL:PT1H
BEGIN:VTIMEZONE
TZID:America/New_York
BEGIN:DAYLIGHT
TZOFFSETFROM:-0500
TZOFFSETTO:-0400
TZNAME:EDT
DTSTART:20250309T070000
END:DAYLIGHT
BEGIN:STANDARD
TZOFFSETFROM:-0400
TZOFFSETTO:-0500
TZNAME:EST
DTSTART:20251102T060000
END:STANDARD
BEGIN:DAYLIGHT
TZOFFSETFROM:-0500
TZOFFSETTO:-0400
TZNAME:EDT
DTSTART:20260308T070000
END:DAYLIGHT
BEGIN:STANDARD
TZOFFSETFROM:-0400
TZOFFSETTO:-0500
TZNAME:EST
DTSTART:20261101T060000
END:STANDARD
BEGIN:DAYLIGHT
TZOFFSETFROM:-0500
TZOFFSETTO:-0400
TZNAME:EDT
DTSTART:20270314T070000
END:DAYLIGHT
BEGIN:STANDARD
TZOFFSETFROM:-0400
TZOFFSETTO:-0500
TZNAME:EST
DTSTART:20271107T060000
END:STANDARD
BEGIN:DAYLIGHT
TZOFFSETFROM:-0500
TZOFFSETTO:-0400
TZNAME:EDT
DTSTART:20280312T070000
END:DAYLIGHT
BEGIN:STANDARD
TZOFFSETFROM:-0400
TZOFFSETTO:-0500
TZNAME:EST
DTSTART:20281105T060000
END:STANDARD
END:VTIMEZONE
BEGIN:VEVENT
DTSTART;TZID=America/New_York:20260506T200000
DTEND;TZID=America/New_York:20260506T210000
DTSTAMP:20260423T075544
CREATED:20250227T153450Z
LAST-MODIFIED:20250313T133520Z
UID:10003797-1778097600-1778101200@umdf.org
SUMMARY:LHON Live! Monthly Call
DESCRIPTION:NOTE: Unless specific to a geographic location – all LHON virtual meetings will be set in Eastern Time. \nThis call is for everyone interested in LHON…those affected\, carriers\, or sighted supporters…all are welcome.  You can speak up and share your thoughts\, or just listen to what others have to say…It’s your call!  Hosts Jessica Loomer and Andy Marks facilitate this call. \nRecordings from prior LHON Live! calls are located at this link: https://www.umdf.org/types/lhon/ \nReach out to Jessica Loomer at jessica.loomer@gmail.com or Andy Marks at marks.andy.c@gmail.com with any questions. \nJoin Details:\nOne option is to use Internet Audio to call at no charge at: https://umdf.zoom.us/j/95371313871\nMeeting ID: 953 7131 3871 \nOr if your phone plan includes Unlimited Minutes\, then here are Toll Charge numbers to one-click call: \n+13017158592\,\,95371313871# US\n+13126266799\,\,95371313871# US\nCanada: +16475580588\,\,95371313871#\nAustralia: +61280152088\,\,95371313871#\nUK: +442034815240\,\,95371313871# \nFor callers in other countries\, find your local number here: https://zoom.us/u/aYbvpoNU9\nMeeting ID: 953 7131 3871 \nClick Here for Previous LHON Live! Recordings  \n 
URL:https://umdf.org/event/lhon-live-monthly-call/2026-05-06/
CATEGORIES:LHON,Support Meeting
ORGANIZER;CN="Margaret Moore":MAILTO:margaret.moore@umdf.org
END:VEVENT
BEGIN:VEVENT
DTSTART;TZID=America/New_York:20260603T200000
DTEND;TZID=America/New_York:20260603T210000
DTSTAMP:20260423T075544
CREATED:20250227T153450Z
LAST-MODIFIED:20250313T133520Z
UID:10003798-1780516800-1780520400@umdf.org
SUMMARY:LHON Live! Monthly Call
DESCRIPTION:NOTE: Unless specific to a geographic location – all LHON virtual meetings will be set in Eastern Time. \nThis call is for everyone interested in LHON…those affected\, carriers\, or sighted supporters…all are welcome.  You can speak up and share your thoughts\, or just listen to what others have to say…It’s your call!  Hosts Jessica Loomer and Andy Marks facilitate this call. \nRecordings from prior LHON Live! calls are located at this link: https://www.umdf.org/types/lhon/ \nReach out to Jessica Loomer at jessica.loomer@gmail.com or Andy Marks at marks.andy.c@gmail.com with any questions. \nJoin Details:\nOne option is to use Internet Audio to call at no charge at: https://umdf.zoom.us/j/95371313871\nMeeting ID: 953 7131 3871 \nOr if your phone plan includes Unlimited Minutes\, then here are Toll Charge numbers to one-click call: \n+13017158592\,\,95371313871# US\n+13126266799\,\,95371313871# US\nCanada: +16475580588\,\,95371313871#\nAustralia: +61280152088\,\,95371313871#\nUK: +442034815240\,\,95371313871# \nFor callers in other countries\, find your local number here: https://zoom.us/u/aYbvpoNU9\nMeeting ID: 953 7131 3871 \nClick Here for Previous LHON Live! Recordings  \n 
URL:https://umdf.org/event/lhon-live-monthly-call/2026-06-03/
CATEGORIES:LHON,Support Meeting
ORGANIZER;CN="Margaret Moore":MAILTO:margaret.moore@umdf.org
END:VEVENT
BEGIN:VEVENT
DTSTART;TZID=America/New_York:20260701T200000
DTEND;TZID=America/New_York:20260701T210000
DTSTAMP:20260423T075544
CREATED:20250227T153450Z
LAST-MODIFIED:20250313T133520Z
UID:10003799-1782936000-1782939600@umdf.org
SUMMARY:LHON Live! Monthly Call
DESCRIPTION:NOTE: Unless specific to a geographic location – all LHON virtual meetings will be set in Eastern Time. \nThis call is for everyone interested in LHON…those affected\, carriers\, or sighted supporters…all are welcome.  You can speak up and share your thoughts\, or just listen to what others have to say…It’s your call!  Hosts Jessica Loomer and Andy Marks facilitate this call. \nRecordings from prior LHON Live! calls are located at this link: https://www.umdf.org/types/lhon/ \nReach out to Jessica Loomer at jessica.loomer@gmail.com or Andy Marks at marks.andy.c@gmail.com with any questions. \nJoin Details:\nOne option is to use Internet Audio to call at no charge at: https://umdf.zoom.us/j/95371313871\nMeeting ID: 953 7131 3871 \nOr if your phone plan includes Unlimited Minutes\, then here are Toll Charge numbers to one-click call: \n+13017158592\,\,95371313871# US\n+13126266799\,\,95371313871# US\nCanada: +16475580588\,\,95371313871#\nAustralia: +61280152088\,\,95371313871#\nUK: +442034815240\,\,95371313871# \nFor callers in other countries\, find your local number here: https://zoom.us/u/aYbvpoNU9\nMeeting ID: 953 7131 3871 \nClick Here for Previous LHON Live! Recordings  \n 
URL:https://umdf.org/event/lhon-live-monthly-call/2026-07-01/
CATEGORIES:LHON,Support Meeting
ORGANIZER;CN="Margaret Moore":MAILTO:margaret.moore@umdf.org
END:VEVENT
BEGIN:VEVENT
DTSTART;TZID=America/New_York:20260805T200000
DTEND;TZID=America/New_York:20260805T210000
DTSTAMP:20260423T075544
CREATED:20250227T153450Z
LAST-MODIFIED:20250313T133520Z
UID:10003800-1785960000-1785963600@umdf.org
SUMMARY:LHON Live! Monthly Call
DESCRIPTION:NOTE: Unless specific to a geographic location – all LHON virtual meetings will be set in Eastern Time. \nThis call is for everyone interested in LHON…those affected\, carriers\, or sighted supporters…all are welcome.  You can speak up and share your thoughts\, or just listen to what others have to say…It’s your call!  Hosts Jessica Loomer and Andy Marks facilitate this call. \nRecordings from prior LHON Live! calls are located at this link: https://www.umdf.org/types/lhon/ \nReach out to Jessica Loomer at jessica.loomer@gmail.com or Andy Marks at marks.andy.c@gmail.com with any questions. \nJoin Details:\nOne option is to use Internet Audio to call at no charge at: https://umdf.zoom.us/j/95371313871\nMeeting ID: 953 7131 3871 \nOr if your phone plan includes Unlimited Minutes\, then here are Toll Charge numbers to one-click call: \n+13017158592\,\,95371313871# US\n+13126266799\,\,95371313871# US\nCanada: +16475580588\,\,95371313871#\nAustralia: +61280152088\,\,95371313871#\nUK: +442034815240\,\,95371313871# \nFor callers in other countries\, find your local number here: https://zoom.us/u/aYbvpoNU9\nMeeting ID: 953 7131 3871 \nClick Here for Previous LHON Live! Recordings  \n 
URL:https://umdf.org/event/lhon-live-monthly-call/2026-08-05/
CATEGORIES:LHON,Support Meeting
ORGANIZER;CN="Margaret Moore":MAILTO:margaret.moore@umdf.org
END:VEVENT
BEGIN:VEVENT
DTSTART;TZID=America/New_York:20260902T200000
DTEND;TZID=America/New_York:20260902T210000
DTSTAMP:20260423T075544
CREATED:20250227T153450Z
LAST-MODIFIED:20250313T133520Z
UID:10003801-1788379200-1788382800@umdf.org
SUMMARY:LHON Live! Monthly Call
DESCRIPTION:NOTE: Unless specific to a geographic location – all LHON virtual meetings will be set in Eastern Time. \nThis call is for everyone interested in LHON…those affected\, carriers\, or sighted supporters…all are welcome.  You can speak up and share your thoughts\, or just listen to what others have to say…It’s your call!  Hosts Jessica Loomer and Andy Marks facilitate this call. \nRecordings from prior LHON Live! calls are located at this link: https://www.umdf.org/types/lhon/ \nReach out to Jessica Loomer at jessica.loomer@gmail.com or Andy Marks at marks.andy.c@gmail.com with any questions. \nJoin Details:\nOne option is to use Internet Audio to call at no charge at: https://umdf.zoom.us/j/95371313871\nMeeting ID: 953 7131 3871 \nOr if your phone plan includes Unlimited Minutes\, then here are Toll Charge numbers to one-click call: \n+13017158592\,\,95371313871# US\n+13126266799\,\,95371313871# US\nCanada: +16475580588\,\,95371313871#\nAustralia: +61280152088\,\,95371313871#\nUK: +442034815240\,\,95371313871# \nFor callers in other countries\, find your local number here: https://zoom.us/u/aYbvpoNU9\nMeeting ID: 953 7131 3871 \nClick Here for Previous LHON Live! Recordings  \n 
URL:https://umdf.org/event/lhon-live-monthly-call/2026-09-02/
CATEGORIES:LHON,Support Meeting
ORGANIZER;CN="Margaret Moore":MAILTO:margaret.moore@umdf.org
END:VEVENT
BEGIN:VEVENT
DTSTART;TZID=America/New_York:20261007T200000
DTEND;TZID=America/New_York:20261007T210000
DTSTAMP:20260423T075544
CREATED:20250227T153450Z
LAST-MODIFIED:20250313T133520Z
UID:10003802-1791403200-1791406800@umdf.org
SUMMARY:LHON Live! Monthly Call
DESCRIPTION:NOTE: Unless specific to a geographic location – all LHON virtual meetings will be set in Eastern Time. \nThis call is for everyone interested in LHON…those affected\, carriers\, or sighted supporters…all are welcome.  You can speak up and share your thoughts\, or just listen to what others have to say…It’s your call!  Hosts Jessica Loomer and Andy Marks facilitate this call. \nRecordings from prior LHON Live! calls are located at this link: https://www.umdf.org/types/lhon/ \nReach out to Jessica Loomer at jessica.loomer@gmail.com or Andy Marks at marks.andy.c@gmail.com with any questions. \nJoin Details:\nOne option is to use Internet Audio to call at no charge at: https://umdf.zoom.us/j/95371313871\nMeeting ID: 953 7131 3871 \nOr if your phone plan includes Unlimited Minutes\, then here are Toll Charge numbers to one-click call: \n+13017158592\,\,95371313871# US\n+13126266799\,\,95371313871# US\nCanada: +16475580588\,\,95371313871#\nAustralia: +61280152088\,\,95371313871#\nUK: +442034815240\,\,95371313871# \nFor callers in other countries\, find your local number here: https://zoom.us/u/aYbvpoNU9\nMeeting ID: 953 7131 3871 \nClick Here for Previous LHON Live! Recordings  \n 
URL:https://umdf.org/event/lhon-live-monthly-call/2026-10-07/
CATEGORIES:LHON,Support Meeting
ORGANIZER;CN="Margaret Moore":MAILTO:margaret.moore@umdf.org
END:VEVENT
BEGIN:VEVENT
DTSTART;TZID=America/New_York:20261104T200000
DTEND;TZID=America/New_York:20261104T210000
DTSTAMP:20260423T075544
CREATED:20250227T153450Z
LAST-MODIFIED:20250313T133520Z
UID:10003803-1793822400-1793826000@umdf.org
SUMMARY:LHON Live! Monthly Call
DESCRIPTION:NOTE: Unless specific to a geographic location – all LHON virtual meetings will be set in Eastern Time. \nThis call is for everyone interested in LHON…those affected\, carriers\, or sighted supporters…all are welcome.  You can speak up and share your thoughts\, or just listen to what others have to say…It’s your call!  Hosts Jessica Loomer and Andy Marks facilitate this call. \nRecordings from prior LHON Live! calls are located at this link: https://www.umdf.org/types/lhon/ \nReach out to Jessica Loomer at jessica.loomer@gmail.com or Andy Marks at marks.andy.c@gmail.com with any questions. \nJoin Details:\nOne option is to use Internet Audio to call at no charge at: https://umdf.zoom.us/j/95371313871\nMeeting ID: 953 7131 3871 \nOr if your phone plan includes Unlimited Minutes\, then here are Toll Charge numbers to one-click call: \n+13017158592\,\,95371313871# US\n+13126266799\,\,95371313871# US\nCanada: +16475580588\,\,95371313871#\nAustralia: +61280152088\,\,95371313871#\nUK: +442034815240\,\,95371313871# \nFor callers in other countries\, find your local number here: https://zoom.us/u/aYbvpoNU9\nMeeting ID: 953 7131 3871 \nClick Here for Previous LHON Live! Recordings  \n 
URL:https://umdf.org/event/lhon-live-monthly-call/2026-11-04/
CATEGORIES:LHON,Support Meeting
ORGANIZER;CN="Margaret Moore":MAILTO:margaret.moore@umdf.org
END:VEVENT
BEGIN:VEVENT
DTSTART;TZID=America/New_York:20261202T200000
DTEND;TZID=America/New_York:20261202T210000
DTSTAMP:20260423T075544
CREATED:20250227T153450Z
LAST-MODIFIED:20250313T133520Z
UID:10003804-1796241600-1796245200@umdf.org
SUMMARY:LHON Live! Monthly Call
DESCRIPTION:NOTE: Unless specific to a geographic location – all LHON virtual meetings will be set in Eastern Time. \nThis call is for everyone interested in LHON…those affected\, carriers\, or sighted supporters…all are welcome.  You can speak up and share your thoughts\, or just listen to what others have to say…It’s your call!  Hosts Jessica Loomer and Andy Marks facilitate this call. \nRecordings from prior LHON Live! calls are located at this link: https://www.umdf.org/types/lhon/ \nReach out to Jessica Loomer at jessica.loomer@gmail.com or Andy Marks at marks.andy.c@gmail.com with any questions. \nJoin Details:\nOne option is to use Internet Audio to call at no charge at: https://umdf.zoom.us/j/95371313871\nMeeting ID: 953 7131 3871 \nOr if your phone plan includes Unlimited Minutes\, then here are Toll Charge numbers to one-click call: \n+13017158592\,\,95371313871# US\n+13126266799\,\,95371313871# US\nCanada: +16475580588\,\,95371313871#\nAustralia: +61280152088\,\,95371313871#\nUK: +442034815240\,\,95371313871# \nFor callers in other countries\, find your local number here: https://zoom.us/u/aYbvpoNU9\nMeeting ID: 953 7131 3871 \nClick Here for Previous LHON Live! Recordings  \n 
URL:https://umdf.org/event/lhon-live-monthly-call/2026-12-02/
CATEGORIES:LHON,Support Meeting
ORGANIZER;CN="Margaret Moore":MAILTO:margaret.moore@umdf.org
END:VEVENT
BEGIN:VEVENT
DTSTART;TZID=America/New_York:20270106T200000
DTEND;TZID=America/New_York:20270106T210000
DTSTAMP:20260423T075544
CREATED:20250227T153450Z
LAST-MODIFIED:20250313T133520Z
UID:10003805-1799265600-1799269200@umdf.org
SUMMARY:LHON Live! Monthly Call
DESCRIPTION:NOTE: Unless specific to a geographic location – all LHON virtual meetings will be set in Eastern Time. \nThis call is for everyone interested in LHON…those affected\, carriers\, or sighted supporters…all are welcome.  You can speak up and share your thoughts\, or just listen to what others have to say…It’s your call!  Hosts Jessica Loomer and Andy Marks facilitate this call. \nRecordings from prior LHON Live! calls are located at this link: https://www.umdf.org/types/lhon/ \nReach out to Jessica Loomer at jessica.loomer@gmail.com or Andy Marks at marks.andy.c@gmail.com with any questions. \nJoin Details:\nOne option is to use Internet Audio to call at no charge at: https://umdf.zoom.us/j/95371313871\nMeeting ID: 953 7131 3871 \nOr if your phone plan includes Unlimited Minutes\, then here are Toll Charge numbers to one-click call: \n+13017158592\,\,95371313871# US\n+13126266799\,\,95371313871# US\nCanada: +16475580588\,\,95371313871#\nAustralia: +61280152088\,\,95371313871#\nUK: +442034815240\,\,95371313871# \nFor callers in other countries\, find your local number here: https://zoom.us/u/aYbvpoNU9\nMeeting ID: 953 7131 3871 \nClick Here for Previous LHON Live! Recordings  \n 
URL:https://umdf.org/event/lhon-live-monthly-call/2027-01-06/
CATEGORIES:LHON,Support Meeting
ORGANIZER;CN="Margaret Moore":MAILTO:margaret.moore@umdf.org
END:VEVENT
BEGIN:VEVENT
DTSTART;TZID=America/New_York:20270203T200000
DTEND;TZID=America/New_York:20270203T210000
DTSTAMP:20260423T075544
CREATED:20250227T153450Z
LAST-MODIFIED:20250313T133520Z
UID:10003806-1801684800-1801688400@umdf.org
SUMMARY:LHON Live! Monthly Call
DESCRIPTION:NOTE: Unless specific to a geographic location – all LHON virtual meetings will be set in Eastern Time. \nThis call is for everyone interested in LHON…those affected\, carriers\, or sighted supporters…all are welcome.  You can speak up and share your thoughts\, or just listen to what others have to say…It’s your call!  Hosts Jessica Loomer and Andy Marks facilitate this call. \nRecordings from prior LHON Live! calls are located at this link: https://www.umdf.org/types/lhon/ \nReach out to Jessica Loomer at jessica.loomer@gmail.com or Andy Marks at marks.andy.c@gmail.com with any questions. \nJoin Details:\nOne option is to use Internet Audio to call at no charge at: https://umdf.zoom.us/j/95371313871\nMeeting ID: 953 7131 3871 \nOr if your phone plan includes Unlimited Minutes\, then here are Toll Charge numbers to one-click call: \n+13017158592\,\,95371313871# US\n+13126266799\,\,95371313871# US\nCanada: +16475580588\,\,95371313871#\nAustralia: +61280152088\,\,95371313871#\nUK: +442034815240\,\,95371313871# \nFor callers in other countries\, find your local number here: https://zoom.us/u/aYbvpoNU9\nMeeting ID: 953 7131 3871 \nClick Here for Previous LHON Live! Recordings  \n 
URL:https://umdf.org/event/lhon-live-monthly-call/2027-02-03/
CATEGORIES:LHON,Support Meeting
ORGANIZER;CN="Margaret Moore":MAILTO:margaret.moore@umdf.org
END:VEVENT
END:VCALENDAR