BEGIN:VCALENDAR
VERSION:2.0
PRODID:-//UMDF - ECPv6.15.20//NONSGML v1.0//EN
CALSCALE:GREGORIAN
METHOD:PUBLISH
X-WR-CALNAME:UMDF
X-ORIGINAL-URL:https://umdf.org
X-WR-CALDESC:Events for UMDF
REFRESH-INTERVAL;VALUE=DURATION:PT1H
X-Robots-Tag:noindex
X-PUBLISHED-TTL:PT1H
BEGIN:VTIMEZONE
TZID:America/New_York
BEGIN:DAYLIGHT
TZOFFSETFROM:-0500
TZOFFSETTO:-0400
TZNAME:EDT
DTSTART:20250309T070000
END:DAYLIGHT
BEGIN:STANDARD
TZOFFSETFROM:-0400
TZOFFSETTO:-0500
TZNAME:EST
DTSTART:20251102T060000
END:STANDARD
BEGIN:DAYLIGHT
TZOFFSETFROM:-0500
TZOFFSETTO:-0400
TZNAME:EDT
DTSTART:20260308T070000
END:DAYLIGHT
BEGIN:STANDARD
TZOFFSETFROM:-0400
TZOFFSETTO:-0500
TZNAME:EST
DTSTART:20261101T060000
END:STANDARD
BEGIN:DAYLIGHT
TZOFFSETFROM:-0500
TZOFFSETTO:-0400
TZNAME:EDT
DTSTART:20270314T070000
END:DAYLIGHT
BEGIN:STANDARD
TZOFFSETFROM:-0400
TZOFFSETTO:-0500
TZNAME:EST
DTSTART:20271107T060000
END:STANDARD
BEGIN:DAYLIGHT
TZOFFSETFROM:-0500
TZOFFSETTO:-0400
TZNAME:EDT
DTSTART:20280312T070000
END:DAYLIGHT
BEGIN:STANDARD
TZOFFSETFROM:-0400
TZOFFSETTO:-0500
TZNAME:EST
DTSTART:20281105T060000
END:STANDARD
BEGIN:DAYLIGHT
TZOFFSETFROM:-0500
TZOFFSETTO:-0400
TZNAME:EDT
DTSTART:20290311T070000
END:DAYLIGHT
BEGIN:STANDARD
TZOFFSETFROM:-0400
TZOFFSETTO:-0500
TZNAME:EST
DTSTART:20291104T060000
END:STANDARD
BEGIN:DAYLIGHT
TZOFFSETFROM:-0500
TZOFFSETTO:-0400
TZNAME:EDT
DTSTART:20300310T070000
END:DAYLIGHT
BEGIN:STANDARD
TZOFFSETFROM:-0400
TZOFFSETTO:-0500
TZNAME:EST
DTSTART:20301103T060000
END:STANDARD
END:VTIMEZONE
BEGIN:VEVENT
DTSTART;TZID=America/New_York:20260812T220000
DTEND;TZID=America/New_York:20260812T233000
DTSTAMP:20260423T093216
CREATED:20241001T160506Z
LAST-MODIFIED:20250313T140407Z
UID:10003976-1786572000-1786577400@umdf.org
SUMMARY:LHON West Connect
DESCRIPTION:The LHON Southwest & LHON Pacific Northwest groups have merged!\n\nThis Zoom event is a great opportunity to connect and discuss resources of interest to the Southwest LHON (previously California) & Northwest LHON communities! Consider joining the call to share your experiences with others in a similar situation. Contact Bob Banks with any questions at rwbanks@hotmail.com or Patrick Doolittle at doolittlepc@gmail.com with any questions. \nThere are also Facebook groups for those in the Southwest & Northwest areas: \n\nSouthwest: https://www.facebook.com/groups/1634812156795801\nNorthwest: https://www.facebook.com/groups/240239936350807\n\nJoin Details:\nOne option is to use Internet Audio to call at no charge at: https://umdf.zoom.us/j/95371313871 \nMeeting ID: 953 7131 3871 \nOr if your phone plan includes Unlimited Minutes\, then here are Toll Charge numbers to  one-click call:\n+16699006833\,\,95371313871#\n+16468769923\,\,95371313871#
URL:https://umdf.org/event/lhon-west-connect/2026-08-12/
CATEGORIES:LHON,Pacific,Southwest,Support Meeting,West
ORGANIZER;CN="Kara Strittmatter":MAILTO:kara@umdf.org
END:VEVENT
BEGIN:VEVENT
DTSTART;TZID=America/New_York:20261209T220000
DTEND;TZID=America/New_York:20261209T233000
DTSTAMP:20260423T093216
CREATED:20241001T160506Z
LAST-MODIFIED:20250313T140407Z
UID:10003977-1796853600-1796859000@umdf.org
SUMMARY:LHON West Connect
DESCRIPTION:The LHON Southwest & LHON Pacific Northwest groups have merged!\n\nThis Zoom event is a great opportunity to connect and discuss resources of interest to the Southwest LHON (previously California) & Northwest LHON communities! Consider joining the call to share your experiences with others in a similar situation. Contact Bob Banks with any questions at rwbanks@hotmail.com or Patrick Doolittle at doolittlepc@gmail.com with any questions. \nThere are also Facebook groups for those in the Southwest & Northwest areas: \n\nSouthwest: https://www.facebook.com/groups/1634812156795801\nNorthwest: https://www.facebook.com/groups/240239936350807\n\nJoin Details:\nOne option is to use Internet Audio to call at no charge at: https://umdf.zoom.us/j/95371313871 \nMeeting ID: 953 7131 3871 \nOr if your phone plan includes Unlimited Minutes\, then here are Toll Charge numbers to  one-click call:\n+16699006833\,\,95371313871#\n+16468769923\,\,95371313871#
URL:https://umdf.org/event/lhon-west-connect/2026-12-09/
CATEGORIES:LHON,Pacific,Southwest,Support Meeting,West
ORGANIZER;CN="Kara Strittmatter":MAILTO:kara@umdf.org
END:VEVENT
BEGIN:VEVENT
DTSTART;TZID=America/New_York:20270414T220000
DTEND;TZID=America/New_York:20270414T233000
DTSTAMP:20260423T093216
CREATED:20241001T160506Z
LAST-MODIFIED:20250313T140407Z
UID:10003978-1807740000-1807745400@umdf.org
SUMMARY:LHON West Connect
DESCRIPTION:The LHON Southwest & LHON Pacific Northwest groups have merged!\n\nThis Zoom event is a great opportunity to connect and discuss resources of interest to the Southwest LHON (previously California) & Northwest LHON communities! Consider joining the call to share your experiences with others in a similar situation. Contact Bob Banks with any questions at rwbanks@hotmail.com or Patrick Doolittle at doolittlepc@gmail.com with any questions. \nThere are also Facebook groups for those in the Southwest & Northwest areas: \n\nSouthwest: https://www.facebook.com/groups/1634812156795801\nNorthwest: https://www.facebook.com/groups/240239936350807\n\nJoin Details:\nOne option is to use Internet Audio to call at no charge at: https://umdf.zoom.us/j/95371313871 \nMeeting ID: 953 7131 3871 \nOr if your phone plan includes Unlimited Minutes\, then here are Toll Charge numbers to  one-click call:\n+16699006833\,\,95371313871#\n+16468769923\,\,95371313871#
URL:https://umdf.org/event/lhon-west-connect/2027-04-14/
CATEGORIES:LHON,Pacific,Southwest,Support Meeting,West
ORGANIZER;CN="Kara Strittmatter":MAILTO:kara@umdf.org
END:VEVENT
BEGIN:VEVENT
DTSTART;TZID=America/New_York:20270811T220000
DTEND;TZID=America/New_York:20270811T233000
DTSTAMP:20260423T093216
CREATED:20241001T160506Z
LAST-MODIFIED:20250313T140407Z
UID:10003979-1818021600-1818027000@umdf.org
SUMMARY:LHON West Connect
DESCRIPTION:The LHON Southwest & LHON Pacific Northwest groups have merged!\n\nThis Zoom event is a great opportunity to connect and discuss resources of interest to the Southwest LHON (previously California) & Northwest LHON communities! Consider joining the call to share your experiences with others in a similar situation. Contact Bob Banks with any questions at rwbanks@hotmail.com or Patrick Doolittle at doolittlepc@gmail.com with any questions. \nThere are also Facebook groups for those in the Southwest & Northwest areas: \n\nSouthwest: https://www.facebook.com/groups/1634812156795801\nNorthwest: https://www.facebook.com/groups/240239936350807\n\nJoin Details:\nOne option is to use Internet Audio to call at no charge at: https://umdf.zoom.us/j/95371313871 \nMeeting ID: 953 7131 3871 \nOr if your phone plan includes Unlimited Minutes\, then here are Toll Charge numbers to  one-click call:\n+16699006833\,\,95371313871#\n+16468769923\,\,95371313871#
URL:https://umdf.org/event/lhon-west-connect/2027-08-11/
CATEGORIES:LHON,Pacific,Southwest,Support Meeting,West
ORGANIZER;CN="Kara Strittmatter":MAILTO:kara@umdf.org
END:VEVENT
BEGIN:VEVENT
DTSTART;TZID=America/New_York:20271208T220000
DTEND;TZID=America/New_York:20271208T233000
DTSTAMP:20260423T093216
CREATED:20241001T160506Z
LAST-MODIFIED:20250313T140407Z
UID:10003980-1828303200-1828308600@umdf.org
SUMMARY:LHON West Connect
DESCRIPTION:The LHON Southwest & LHON Pacific Northwest groups have merged!\n\nThis Zoom event is a great opportunity to connect and discuss resources of interest to the Southwest LHON (previously California) & Northwest LHON communities! Consider joining the call to share your experiences with others in a similar situation. Contact Bob Banks with any questions at rwbanks@hotmail.com or Patrick Doolittle at doolittlepc@gmail.com with any questions. \nThere are also Facebook groups for those in the Southwest & Northwest areas: \n\nSouthwest: https://www.facebook.com/groups/1634812156795801\nNorthwest: https://www.facebook.com/groups/240239936350807\n\nJoin Details:\nOne option is to use Internet Audio to call at no charge at: https://umdf.zoom.us/j/95371313871 \nMeeting ID: 953 7131 3871 \nOr if your phone plan includes Unlimited Minutes\, then here are Toll Charge numbers to  one-click call:\n+16699006833\,\,95371313871#\n+16468769923\,\,95371313871#
URL:https://umdf.org/event/lhon-west-connect/2027-12-08/
CATEGORIES:LHON,Pacific,Southwest,Support Meeting,West
ORGANIZER;CN="Kara Strittmatter":MAILTO:kara@umdf.org
END:VEVENT
BEGIN:VEVENT
DTSTART;TZID=America/New_York:20280412T220000
DTEND;TZID=America/New_York:20280412T233000
DTSTAMP:20260423T093216
CREATED:20241001T160506Z
LAST-MODIFIED:20250313T140407Z
UID:10003981-1839189600-1839195000@umdf.org
SUMMARY:LHON West Connect
DESCRIPTION:The LHON Southwest & LHON Pacific Northwest groups have merged!\n\nThis Zoom event is a great opportunity to connect and discuss resources of interest to the Southwest LHON (previously California) & Northwest LHON communities! Consider joining the call to share your experiences with others in a similar situation. Contact Bob Banks with any questions at rwbanks@hotmail.com or Patrick Doolittle at doolittlepc@gmail.com with any questions. \nThere are also Facebook groups for those in the Southwest & Northwest areas: \n\nSouthwest: https://www.facebook.com/groups/1634812156795801\nNorthwest: https://www.facebook.com/groups/240239936350807\n\nJoin Details:\nOne option is to use Internet Audio to call at no charge at: https://umdf.zoom.us/j/95371313871 \nMeeting ID: 953 7131 3871 \nOr if your phone plan includes Unlimited Minutes\, then here are Toll Charge numbers to  one-click call:\n+16699006833\,\,95371313871#\n+16468769923\,\,95371313871#
URL:https://umdf.org/event/lhon-west-connect/2028-04-12/
CATEGORIES:LHON,Pacific,Southwest,Support Meeting,West
ORGANIZER;CN="Kara Strittmatter":MAILTO:kara@umdf.org
END:VEVENT
BEGIN:VEVENT
DTSTART;TZID=America/New_York:20280809T220000
DTEND;TZID=America/New_York:20280809T233000
DTSTAMP:20260423T093216
CREATED:20241001T160506Z
LAST-MODIFIED:20250313T140407Z
UID:10003982-1849471200-1849476600@umdf.org
SUMMARY:LHON West Connect
DESCRIPTION:The LHON Southwest & LHON Pacific Northwest groups have merged!\n\nThis Zoom event is a great opportunity to connect and discuss resources of interest to the Southwest LHON (previously California) & Northwest LHON communities! Consider joining the call to share your experiences with others in a similar situation. Contact Bob Banks with any questions at rwbanks@hotmail.com or Patrick Doolittle at doolittlepc@gmail.com with any questions. \nThere are also Facebook groups for those in the Southwest & Northwest areas: \n\nSouthwest: https://www.facebook.com/groups/1634812156795801\nNorthwest: https://www.facebook.com/groups/240239936350807\n\nJoin Details:\nOne option is to use Internet Audio to call at no charge at: https://umdf.zoom.us/j/95371313871 \nMeeting ID: 953 7131 3871 \nOr if your phone plan includes Unlimited Minutes\, then here are Toll Charge numbers to  one-click call:\n+16699006833\,\,95371313871#\n+16468769923\,\,95371313871#
URL:https://umdf.org/event/lhon-west-connect/2028-08-09/
CATEGORIES:LHON,Pacific,Southwest,Support Meeting,West
ORGANIZER;CN="Kara Strittmatter":MAILTO:kara@umdf.org
END:VEVENT
BEGIN:VEVENT
DTSTART;TZID=America/New_York:20281213T220000
DTEND;TZID=America/New_York:20281213T233000
DTSTAMP:20260423T093216
CREATED:20241001T160506Z
LAST-MODIFIED:20250313T140407Z
UID:10003983-1860357600-1860363000@umdf.org
SUMMARY:LHON West Connect
DESCRIPTION:The LHON Southwest & LHON Pacific Northwest groups have merged!\n\nThis Zoom event is a great opportunity to connect and discuss resources of interest to the Southwest LHON (previously California) & Northwest LHON communities! Consider joining the call to share your experiences with others in a similar situation. Contact Bob Banks with any questions at rwbanks@hotmail.com or Patrick Doolittle at doolittlepc@gmail.com with any questions. \nThere are also Facebook groups for those in the Southwest & Northwest areas: \n\nSouthwest: https://www.facebook.com/groups/1634812156795801\nNorthwest: https://www.facebook.com/groups/240239936350807\n\nJoin Details:\nOne option is to use Internet Audio to call at no charge at: https://umdf.zoom.us/j/95371313871 \nMeeting ID: 953 7131 3871 \nOr if your phone plan includes Unlimited Minutes\, then here are Toll Charge numbers to  one-click call:\n+16699006833\,\,95371313871#\n+16468769923\,\,95371313871#
URL:https://umdf.org/event/lhon-west-connect/2028-12-13/
CATEGORIES:LHON,Pacific,Southwest,Support Meeting,West
ORGANIZER;CN="Kara Strittmatter":MAILTO:kara@umdf.org
END:VEVENT
BEGIN:VEVENT
DTSTART;TZID=America/New_York:20290411T220000
DTEND;TZID=America/New_York:20290411T233000
DTSTAMP:20260423T093216
CREATED:20241001T160506Z
LAST-MODIFIED:20250313T140407Z
UID:10003984-1870639200-1870644600@umdf.org
SUMMARY:LHON West Connect
DESCRIPTION:The LHON Southwest & LHON Pacific Northwest groups have merged!\n\nThis Zoom event is a great opportunity to connect and discuss resources of interest to the Southwest LHON (previously California) & Northwest LHON communities! Consider joining the call to share your experiences with others in a similar situation. Contact Bob Banks with any questions at rwbanks@hotmail.com or Patrick Doolittle at doolittlepc@gmail.com with any questions. \nThere are also Facebook groups for those in the Southwest & Northwest areas: \n\nSouthwest: https://www.facebook.com/groups/1634812156795801\nNorthwest: https://www.facebook.com/groups/240239936350807\n\nJoin Details:\nOne option is to use Internet Audio to call at no charge at: https://umdf.zoom.us/j/95371313871 \nMeeting ID: 953 7131 3871 \nOr if your phone plan includes Unlimited Minutes\, then here are Toll Charge numbers to  one-click call:\n+16699006833\,\,95371313871#\n+16468769923\,\,95371313871#
URL:https://umdf.org/event/lhon-west-connect/2029-04-11/
CATEGORIES:LHON,Pacific,Southwest,Support Meeting,West
ORGANIZER;CN="Kara Strittmatter":MAILTO:kara@umdf.org
END:VEVENT
BEGIN:VEVENT
DTSTART;TZID=America/New_York:20290808T220000
DTEND;TZID=America/New_York:20290808T233000
DTSTAMP:20260423T093216
CREATED:20241001T160506Z
LAST-MODIFIED:20250313T140407Z
UID:10003985-1880920800-1880926200@umdf.org
SUMMARY:LHON West Connect
DESCRIPTION:The LHON Southwest & LHON Pacific Northwest groups have merged!\n\nThis Zoom event is a great opportunity to connect and discuss resources of interest to the Southwest LHON (previously California) & Northwest LHON communities! Consider joining the call to share your experiences with others in a similar situation. Contact Bob Banks with any questions at rwbanks@hotmail.com or Patrick Doolittle at doolittlepc@gmail.com with any questions. \nThere are also Facebook groups for those in the Southwest & Northwest areas: \n\nSouthwest: https://www.facebook.com/groups/1634812156795801\nNorthwest: https://www.facebook.com/groups/240239936350807\n\nJoin Details:\nOne option is to use Internet Audio to call at no charge at: https://umdf.zoom.us/j/95371313871 \nMeeting ID: 953 7131 3871 \nOr if your phone plan includes Unlimited Minutes\, then here are Toll Charge numbers to  one-click call:\n+16699006833\,\,95371313871#\n+16468769923\,\,95371313871#
URL:https://umdf.org/event/lhon-west-connect/2029-08-08/
CATEGORIES:LHON,Pacific,Southwest,Support Meeting,West
ORGANIZER;CN="Kara Strittmatter":MAILTO:kara@umdf.org
END:VEVENT
BEGIN:VEVENT
DTSTART;TZID=America/New_York:20291212T220000
DTEND;TZID=America/New_York:20291212T233000
DTSTAMP:20260423T093216
CREATED:20241001T160506Z
LAST-MODIFIED:20250313T140407Z
UID:10003986-1891807200-1891812600@umdf.org
SUMMARY:LHON West Connect
DESCRIPTION:The LHON Southwest & LHON Pacific Northwest groups have merged!\n\nThis Zoom event is a great opportunity to connect and discuss resources of interest to the Southwest LHON (previously California) & Northwest LHON communities! Consider joining the call to share your experiences with others in a similar situation. Contact Bob Banks with any questions at rwbanks@hotmail.com or Patrick Doolittle at doolittlepc@gmail.com with any questions. \nThere are also Facebook groups for those in the Southwest & Northwest areas: \n\nSouthwest: https://www.facebook.com/groups/1634812156795801\nNorthwest: https://www.facebook.com/groups/240239936350807\n\nJoin Details:\nOne option is to use Internet Audio to call at no charge at: https://umdf.zoom.us/j/95371313871 \nMeeting ID: 953 7131 3871 \nOr if your phone plan includes Unlimited Minutes\, then here are Toll Charge numbers to  one-click call:\n+16699006833\,\,95371313871#\n+16468769923\,\,95371313871#
URL:https://umdf.org/event/lhon-west-connect/2029-12-12/
CATEGORIES:LHON,Pacific,Southwest,Support Meeting,West
ORGANIZER;CN="Kara Strittmatter":MAILTO:kara@umdf.org
END:VEVENT
END:VCALENDAR