BEGIN:VCALENDAR
VERSION:2.0
PRODID:-//UMDF - ECPv6.15.20//NONSGML v1.0//EN
CALSCALE:GREGORIAN
METHOD:PUBLISH
X-ORIGINAL-URL:https://umdf.org
X-WR-CALDESC:Events for UMDF
REFRESH-INTERVAL;VALUE=DURATION:PT1H
X-Robots-Tag:noindex
X-PUBLISHED-TTL:PT1H
BEGIN:VTIMEZONE
TZID:America/Chicago
BEGIN:DAYLIGHT
TZOFFSETFROM:-0600
TZOFFSETTO:-0500
TZNAME:CDT
DTSTART:20250309T080000
END:DAYLIGHT
BEGIN:STANDARD
TZOFFSETFROM:-0500
TZOFFSETTO:-0600
TZNAME:CST
DTSTART:20251102T070000
END:STANDARD
BEGIN:DAYLIGHT
TZOFFSETFROM:-0600
TZOFFSETTO:-0500
TZNAME:CDT
DTSTART:20260308T080000
END:DAYLIGHT
BEGIN:STANDARD
TZOFFSETFROM:-0500
TZOFFSETTO:-0600
TZNAME:CST
DTSTART:20261101T070000
END:STANDARD
BEGIN:DAYLIGHT
TZOFFSETFROM:-0600
TZOFFSETTO:-0500
TZNAME:CDT
DTSTART:20270314T080000
END:DAYLIGHT
BEGIN:STANDARD
TZOFFSETFROM:-0500
TZOFFSETTO:-0600
TZNAME:CST
DTSTART:20271107T070000
END:STANDARD
END:VTIMEZONE
BEGIN:VEVENT
DTSTART;TZID=America/Chicago:20260423T190000
DTEND;TZID=America/Chicago:20260423T200000
DTSTAMP:20260423T092243
CREATED:20240620T144219Z
LAST-MODIFIED:20251209T192223Z
UID:10001405-1776970800-1776974400@umdf.org
SUMMARY:Central Region Virtual Support Meeting
DESCRIPTION:Central Region Virtual Support Meeting \nUMDF hosts regular virtual support group meetings and events for patients and families affected by mitochondrial disease. Join us to gain coping tips\, share your story and connect with others. We hope you will attend and see that you are not alone. \nFourth Thursday of each month • 7:00pm – 8:00pm Central \nLearn more & register here. \nRegistration is required\, and you will receive a confirmation email with information to join the meeting. If you have any questions\, contact Margaret Moore at margaret.moore@5mr.c80.myftpupload.com or 412-744-1061 Ext 105. \nVisit the UMDF Event Calendar for all updates and upcoming events here.  \nSpecial Thanks to our Sponsors\nEdith L. Trees Charitable Trust • Jack Edwards Family Impact Fund
URL:https://umdf.org/event/central-region-virtual-support-meeting-2/2026-04-23/
END:VEVENT
END:VCALENDAR